BEGIN:VCALENDAR
VERSION:2.0
PRODID:-//日本マネジメント学会 - ECPv6.10.1.1//NONSGML v1.0//EN
CALSCALE:GREGORIAN
METHOD:PUBLISH
X-WR-CALNAME:日本マネジメント学会
X-ORIGINAL-URL:http://nippon-mana.jp
X-WR-CALDESC:日本マネジメント学会 のイベント
REFRESH-INTERVAL;VALUE=DURATION:PT1H
X-Robots-Tag:noindex
X-PUBLISHED-TTL:PT1H
BEGIN:VTIMEZONE
TZID:Asia/Tokyo
BEGIN:STANDARD
TZOFFSETFROM:+0900
TZOFFSETTO:+0900
TZNAME:JST
DTSTART:20250101T000000
END:STANDARD
END:VTIMEZONE
BEGIN:VEVENT
DTSTART;TZID=Asia/Tokyo:20260328T130000
DTEND;TZID=Asia/Tokyo:20260328T163000
DTSTAMP:20260422T101217
CREATED:20260307T004212Z
LAST-MODIFIED:20260307T004212Z
UID:1454-1774702800-1774715400@nippon-mana.jp
SUMMARY:2025年度産学交流シンポジウム
DESCRIPTION:
URL:http://nippon-mana.jp/event/2025%e5%b9%b4%e5%ba%a6%e7%94%a3%e5%ad%a6%e4%ba%a4%e6%b5%81%e3%82%b7%e3%83%b3%e3%83%9d%e3%82%b8%e3%82%a6%e3%83%a0/
LOCATION:拓殖大学文京キャンパス
CATEGORIES:産学交流シンポジウム
END:VEVENT
BEGIN:VEVENT
DTSTART;TZID=Asia/Tokyo:20260321T130000
DTEND;TZID=Asia/Tokyo:20260321T151500
DTSTAMP:20260422T101217
CREATED:20260126T001507Z
LAST-MODIFIED:20260126T001507Z
UID:1395-1774098000-1774106100@nippon-mana.jp
SUMMARY:2025年度第1回経営実践コンサルティング部会
DESCRIPTION:
URL:http://nippon-mana.jp/event/2025%e5%b9%b4%e5%ba%a6%e7%ac%ac1%e5%9b%9e%e7%b5%8c%e5%96%b6%e5%ae%9f%e8%b7%b5%e3%82%b3%e3%83%b3%e3%82%b5%e3%83%ab%e3%83%86%e3%82%a3%e3%83%b3%e3%82%b0%e9%83%a8%e4%bc%9a/
LOCATION:Zoomでのオンライン開催
END:VEVENT
BEGIN:VEVENT
DTSTART;TZID=Asia/Tokyo:20260314T133000
DTEND;TZID=Asia/Tokyo:20260314T170000
DTSTAMP:20260422T101217
CREATED:20260205T000412Z
LAST-MODIFIED:20260205T000412Z
UID:1409-1773495000-1773507600@nippon-mana.jp
SUMMARY:2025年度経営革新研究部会
DESCRIPTION:
URL:http://nippon-mana.jp/event/2025keieikakushin/
LOCATION:Zoomでのオンライン開催
CATEGORIES:経営革新研究部会
END:VEVENT
BEGIN:VEVENT
DTSTART;TZID=Asia/Tokyo:20260314T130000
DTEND;TZID=Asia/Tokyo:20260314T170000
DTSTAMP:20260422T101217
CREATED:20251114T071948Z
LAST-MODIFIED:20260214T112454Z
UID:1303-1773493200-1773507600@nippon-mana.jp
SUMMARY:2025年度北海道・東北部会
DESCRIPTION:
URL:http://nippon-mana.jp/event/2025%e5%b9%b4%e5%ba%a6%e6%9d%b1%e5%8c%97%e3%83%bb%e5%8c%97%e6%b5%b7%e9%81%93%e9%83%a8%e4%bc%9a/
LOCATION:東北大学片平キャンパス
END:VEVENT
BEGIN:VEVENT
DTSTART;TZID=Asia/Tokyo:20260307T130000
DTEND;TZID=Asia/Tokyo:20260307T173000
DTSTAMP:20260422T101217
CREATED:20251123T041026Z
LAST-MODIFIED:20251123T041026Z
UID:1317-1772888400-1772904600@nippon-mana.jp
SUMMARY:2025年度第2回関西部会
DESCRIPTION:https://nippon-mana.jp/post_20251122/
URL:http://nippon-mana.jp/event/2025%e5%b9%b4%e5%ba%a6%e7%ac%ac2%e5%9b%9e%e9%96%a2%e8%a5%bf%e9%83%a8%e4%bc%9a/
LOCATION:関西大学梅田キャンパス　４Fラボ\, 北区鶴野町1番5号\, 大阪市\, 大阪府\, 530-0014\, Japan
END:VEVENT
BEGIN:VEVENT
DTSTART;TZID=Asia/Tokyo:20260228T131500
DTEND;TZID=Asia/Tokyo:20260228T165500
DTSTAMP:20260422T101217
CREATED:20260124T032618Z
LAST-MODIFIED:20260124T032618Z
UID:1392-1772284500-1772297700@nippon-mana.jp
SUMMARY:2025年度第3回関東部会
DESCRIPTION:
URL:http://nippon-mana.jp/event/2025%e5%b9%b4%e5%ba%a6%e7%ac%ac3%e5%9b%9e%e9%96%a2%e6%9d%b1%e9%83%a8%e4%bc%9a/
LOCATION:拓殖大学文京キャンパス
CATEGORIES:関東部会
END:VEVENT
BEGIN:VEVENT
DTSTART;TZID=Asia/Tokyo:20260131T140000
DTEND;TZID=Asia/Tokyo:20260131T170000
DTSTAMP:20260422T101217
CREATED:20251125T134608Z
LAST-MODIFIED:20251125T134608Z
UID:1325-1769868000-1769878800@nippon-mana.jp
SUMMARY:2025 年度第２回経営理念研究部会
DESCRIPTION:
URL:http://nippon-mana.jp/event/20260131/
LOCATION:駒澤大学駒沢キャンパス
CATEGORIES:経営理念研究部会
END:VEVENT
BEGIN:VEVENT
DTSTART;TZID=Asia/Tokyo:20260124T023000
DTEND;TZID=Asia/Tokyo:20260124T050000
DTSTAMP:20260422T101217
CREATED:20251223T053029Z
LAST-MODIFIED:20251223T063237Z
UID:1368-1769221800-1769230800@nippon-mana.jp
SUMMARY:第24回マネジメント実践研究部会
DESCRIPTION:
URL:http://nippon-mana.jp/event/20260124/
LOCATION:文京区立駒込地域活動センター
CATEGORIES:マネジメント実践研究部会
END:VEVENT
BEGIN:VEVENT
DTSTART;TZID=Asia/Tokyo:20260118T140000
DTEND;TZID=Asia/Tokyo:20260118T170000
DTSTAMP:20260422T101217
CREATED:20251202T141248Z
LAST-MODIFIED:20251202T141248Z
UID:1342-1768744800-1768755600@nippon-mana.jp
SUMMARY:2025年度中国・九州部会
DESCRIPTION:
URL:http://nippon-mana.jp/event/2025%e5%b9%b4%e5%ba%a6%e4%b8%ad%e5%9b%bd%e3%83%bb%e4%b9%9d%e5%b7%9e%e9%83%a8%e4%bc%9a/
LOCATION:不動技研ホールディングス会議室
CATEGORIES:中国・九州部会
END:VEVENT
BEGIN:VEVENT
DTSTART;TZID=Asia/Tokyo:20251221T133000
DTEND;TZID=Asia/Tokyo:20251221T164500
DTSTAMP:20260422T101217
CREATED:20250919T150312Z
LAST-MODIFIED:20250919T150312Z
UID:1180-1766323800-1766335500@nippon-mana.jp
SUMMARY:2025年度第2回関東部会
DESCRIPTION:
URL:http://nippon-mana.jp/event/2025%e5%b9%b4%e5%ba%a6%e7%ac%ac2%e5%9b%9e%e9%96%a2%e6%9d%b1%e9%83%a8%e4%bc%9a/
LOCATION:立教大学池袋キャンパス
CATEGORIES:関東部会
END:VEVENT
BEGIN:VEVENT
DTSTART;TZID=Asia/Tokyo:20251206T140000
DTEND;TZID=Asia/Tokyo:20251206T170000
DTSTAMP:20260422T101217
CREATED:20250919T150745Z
LAST-MODIFIED:20251114T071551Z
UID:1183-1765029600-1765040400@nippon-mana.jp
SUMMARY:2025年度第2回（第69回）中部部会
DESCRIPTION:
URL:http://nippon-mana.jp/event/2025%e5%b9%b4%e5%ba%a6%e7%ac%ac1%e5%9b%9e%e4%b8%ad%e9%83%a8%e9%83%a8%e4%bc%9a/
LOCATION:JR岐阜駅前じゅうろくプラザ
CATEGORIES:中部部会
END:VEVENT
BEGIN:VEVENT
DTSTART;VALUE=DATE:20251003
DTEND;VALUE=DATE:20251006
DTSTAMP:20260422T101217
CREATED:20250825T011144Z
LAST-MODIFIED:20250825T064351Z
UID:1144-1759449600-1759708799@nippon-mana.jp
SUMMARY:第92回 全国研究大会＠周南公立大学
DESCRIPTION:
URL:http://nippon-mana.jp/event/20251003/
LOCATION:周南公立大学
CATEGORIES:全国研究大会
END:VEVENT
BEGIN:VEVENT
DTSTART;TZID=Asia/Tokyo:20250823T133000
DTEND;TZID=Asia/Tokyo:20250823T172000
DTSTAMP:20260422T101217
CREATED:20250228T134957Z
LAST-MODIFIED:20250823T065324Z
UID:75-1755955800-1755969600@nippon-mana.jp
SUMMARY:2025年度 第1回 関西・四国部会
DESCRIPTION:詳細はこちらからご確認いただけます。
URL:http://nippon-mana.jp/event/20240305kanto/
LOCATION:Zoomでのオンライン開催
CATEGORIES:関西・四国部会
END:VEVENT
END:VCALENDAR