BEGIN:VCALENDAR
VERSION:2.0
PRODID:-//日本マネジメント学会 - ECPv6.10.1.1//NONSGML v1.0//EN
CALSCALE:GREGORIAN
METHOD:PUBLISH
X-ORIGINAL-URL:http://nippon-mana.jp
X-WR-CALDESC:日本マネジメント学会 のイベント
REFRESH-INTERVAL;VALUE=DURATION:PT1H
X-Robots-Tag:noindex
X-PUBLISHED-TTL:PT1H
BEGIN:VTIMEZONE
TZID:Asia/Tokyo
BEGIN:STANDARD
TZOFFSETFROM:+0900
TZOFFSETTO:+0900
TZNAME:JST
DTSTART:20260101T000000
END:STANDARD
END:VTIMEZONE
BEGIN:VEVENT
DTSTART;TZID=Asia/Tokyo:20260307T130000
DTEND;TZID=Asia/Tokyo:20260307T173000
DTSTAMP:20260424T200011
CREATED:20251123T041026Z
LAST-MODIFIED:20251123T041026Z
UID:1317-1772888400-1772904600@nippon-mana.jp
SUMMARY:2025年度第2回関西部会
DESCRIPTION:https://nippon-mana.jp/post_20251122/
URL:http://nippon-mana.jp/event/2025%e5%b9%b4%e5%ba%a6%e7%ac%ac2%e5%9b%9e%e9%96%a2%e8%a5%bf%e9%83%a8%e4%bc%9a/
LOCATION:関西大学梅田キャンパス　４Fラボ\, 北区鶴野町1番5号\, 大阪市\, 大阪府\, 530-0014\, Japan
END:VEVENT
END:VCALENDAR