BEGIN:VCALENDAR
VERSION:2.0
PRODID:-//日本マネジメント学会 - ECPv6.10.1.1//NONSGML v1.0//EN
CALSCALE:GREGORIAN
METHOD:PUBLISH
X-WR-CALNAME:日本マネジメント学会
X-ORIGINAL-URL:http://nippon-mana.jp
X-WR-CALDESC:日本マネジメント学会 のイベント
REFRESH-INTERVAL;VALUE=DURATION:PT1H
X-Robots-Tag:noindex
X-PUBLISHED-TTL:PT1H
BEGIN:VTIMEZONE
TZID:Asia/Tokyo
BEGIN:STANDARD
TZOFFSETFROM:+0900
TZOFFSETTO:+0900
TZNAME:JST
DTSTART:20260101T000000
END:STANDARD
END:VTIMEZONE
BEGIN:VEVENT
DTSTART;TZID=Asia/Tokyo:20260314T130000
DTEND;TZID=Asia/Tokyo:20260314T170000
DTSTAMP:20260424T074912
CREATED:20251114T071948Z
LAST-MODIFIED:20260214T112454Z
UID:1303-1773493200-1773507600@nippon-mana.jp
SUMMARY:2025年度北海道・東北部会
DESCRIPTION:
URL:http://nippon-mana.jp/event/2025%e5%b9%b4%e5%ba%a6%e6%9d%b1%e5%8c%97%e3%83%bb%e5%8c%97%e6%b5%b7%e9%81%93%e9%83%a8%e4%bc%9a/
LOCATION:東北大学片平キャンパス
END:VEVENT
BEGIN:VEVENT
DTSTART;TZID=Asia/Tokyo:20260314T133000
DTEND;TZID=Asia/Tokyo:20260314T170000
DTSTAMP:20260424T074912
CREATED:20260205T000412Z
LAST-MODIFIED:20260205T000412Z
UID:1409-1773495000-1773507600@nippon-mana.jp
SUMMARY:2025年度経営革新研究部会
DESCRIPTION:
URL:http://nippon-mana.jp/event/2025keieikakushin/
LOCATION:Zoomでのオンライン開催
CATEGORIES:経営革新研究部会
END:VEVENT
END:VCALENDAR