BEGIN:VCALENDAR
VERSION:2.0
PRODID:-//日本マネジメント学会 - ECPv6.10.1.1//NONSGML v1.0//EN
CALSCALE:GREGORIAN
METHOD:PUBLISH
X-WR-CALNAME:日本マネジメント学会
X-ORIGINAL-URL:http://nippon-mana.jp
X-WR-CALDESC:日本マネジメント学会 のイベント
REFRESH-INTERVAL;VALUE=DURATION:PT1H
X-Robots-Tag:noindex
X-PUBLISHED-TTL:PT1H
BEGIN:VTIMEZONE
TZID:Asia/Tokyo
BEGIN:STANDARD
TZOFFSETFROM:+0900
TZOFFSETTO:+0900
TZNAME:JST
DTSTART:20260101T000000
END:STANDARD
END:VTIMEZONE
BEGIN:VEVENT
DTSTART;TZID=Asia/Tokyo:20260321T130000
DTEND;TZID=Asia/Tokyo:20260321T151500
DTSTAMP:20260423T205955
CREATED:20260126T001507Z
LAST-MODIFIED:20260126T001507Z
UID:1395-1774098000-1774106100@nippon-mana.jp
SUMMARY:2025年度第1回経営実践コンサルティング部会
DESCRIPTION:
URL:http://nippon-mana.jp/event/2025%e5%b9%b4%e5%ba%a6%e7%ac%ac1%e5%9b%9e%e7%b5%8c%e5%96%b6%e5%ae%9f%e8%b7%b5%e3%82%b3%e3%83%b3%e3%82%b5%e3%83%ab%e3%83%86%e3%82%a3%e3%83%b3%e3%82%b0%e9%83%a8%e4%bc%9a/
LOCATION:Zoomでのオンライン開催
END:VEVENT
END:VCALENDAR